BEGIN:VCALENDAR
VERSION:2.0
PRODID:-//The Walronds, Cullompton - ECPv6.15.17.1//NONSGML v1.0//EN
CALSCALE:GREGORIAN
METHOD:PUBLISH
X-WR-CALNAME:The Walronds, Cullompton
X-ORIGINAL-URL:https://www.walronds.com
X-WR-CALDESC:Events for The Walronds, Cullompton
REFRESH-INTERVAL;VALUE=DURATION:PT1H
X-Robots-Tag:noindex
X-PUBLISHED-TTL:PT1H
BEGIN:VTIMEZONE
TZID:Europe/London
BEGIN:DAYLIGHT
TZOFFSETFROM:+0000
TZOFFSETTO:+0100
TZNAME:BST
DTSTART:20200329T010000
END:DAYLIGHT
BEGIN:STANDARD
TZOFFSETFROM:+0100
TZOFFSETTO:+0000
TZNAME:GMT
DTSTART:20201025T010000
END:STANDARD
BEGIN:DAYLIGHT
TZOFFSETFROM:+0000
TZOFFSETTO:+0100
TZNAME:BST
DTSTART:20210328T010000
END:DAYLIGHT
BEGIN:STANDARD
TZOFFSETFROM:+0100
TZOFFSETTO:+0000
TZNAME:GMT
DTSTART:20211031T010000
END:STANDARD
BEGIN:DAYLIGHT
TZOFFSETFROM:+0000
TZOFFSETTO:+0100
TZNAME:BST
DTSTART:20220327T010000
END:DAYLIGHT
BEGIN:STANDARD
TZOFFSETFROM:+0100
TZOFFSETTO:+0000
TZNAME:GMT
DTSTART:20221030T010000
END:STANDARD
BEGIN:DAYLIGHT
TZOFFSETFROM:+0000
TZOFFSETTO:+0100
TZNAME:BST
DTSTART:20230326T010000
END:DAYLIGHT
BEGIN:STANDARD
TZOFFSETFROM:+0100
TZOFFSETTO:+0000
TZNAME:GMT
DTSTART:20231029T010000
END:STANDARD
BEGIN:DAYLIGHT
TZOFFSETFROM:+0000
TZOFFSETTO:+0100
TZNAME:BST
DTSTART:20240331T010000
END:DAYLIGHT
BEGIN:STANDARD
TZOFFSETFROM:+0100
TZOFFSETTO:+0000
TZNAME:GMT
DTSTART:20241027T010000
END:STANDARD
END:VTIMEZONE
BEGIN:VEVENT
DTSTART;TZID=Europe/London:20230714T193000
DTEND;TZID=Europe/London:20230714T213000
DTSTAMP:20260420T124808
CREATED:20230311T145156Z
LAST-MODIFIED:20230409T134954Z
UID:10000532-1689363000-1689370200@www.walronds.com
SUMMARY:Brooke Sharkey & Friends in Concert
DESCRIPTION:Tickets for this event are available from www.wegottickets.com and search for Cullompton. \nAlso tickets are available from Lord Fudges’ Little Cully Café \n  \n  \n \n  \nWe are absolutely delighted to welcome Brooke Sharkey to The Walronds for this concert. \nBrooke Sharkey\, an internationally renowned musician\, in concert with Isaks Island and Blythe Pepino. \nBrooke Sharkey was raised between France and England and is now currently based in Oslo. Starting her musical journey as a busker\, she has since released 2 Eps and 2 full length albums ‘One Dress’ (2012) and ‘Wandering Heart’ (V2 records- 2016) and travelled extensively playing her Anglo-french soul searching\, spacious and poetic songs. Brooke was featured in the FUTURE 50 article in The Guardian in  2016 about independent artists doing it their own way. She produces her music and collaborates with various artists and musicians adding to her unique vocal delivery and poetic lyrics\, reaching into the vaste yet intricate themes of loving\, longing\, letting go\, desire\, empowerment\, belonging\, beauty and the search for inner peace through voice\, presence and embodiment. \n‘An introspective sound adorned with emotional vocals and sliding string sections that create a tense air of melancholy that few others can master so simply and so elegantly\, Brooke Sharkey oozes a creativity that radiates emotion. She is a woman who bleeds artistry’ (Fresh beats) \nBrooke’s music has been played extensively on BBC radio 2\, Radio 6\, BBC Scotland\, Radio FIP (France) and Radio 1 Belgium with live sessions on NPO Radio 1 and 2 in The Netherlands. She has also captured the attention of The guardian\, Loud and quiet magazine\, Acoustic magazine and Maverick magazine and  has supported artists such as Thomas Dybdahl\, Ben Watt and french artist Tété\, co-headlining a show at The Union Chapel with Blick Bassy. \nBrooke is currently working on a new single with Blythe Pepino (Band: Mesadorm) and is crowdfunding for her new EP to be released in 2023. \nShe will be accompanied by Isaks Island & Blythe Pepino. \nThe concert will take place at 7.30 pm on 14th July 2023 as part of the Cullompton Arts Festival and will be held in a marquee in the attractive gardens of The Walronds. \nA licensed bar will be available. \nTickets are £10 each and are available from www.wegottickets.com – Search for Cullompton Events. \n  \n \n  \nSupported by Creative Cullompton \n 
URL:https://www.walronds.com/event/brooke-sharkey-friends-in-concert/
LOCATION:The Garden
CATEGORIES:The Garden
ATTACH;FMTTYPE=image/jpeg:https://www.walronds.com/wp-content/uploads/2023/03/BrookeportraitBluePoster-1.jpg
ORGANIZER;CN="Graham Sessions":MAILTO:nextgenerationcompany2016@gmail.com
END:VEVENT
BEGIN:VEVENT
DTSTART;TZID=Europe/London:20230711T193000
DTEND;TZID=Europe/London:20230711T220000
DTSTAMP:20260420T124808
CREATED:20230311T151121Z
LAST-MODIFIED:20230525T081752Z
UID:10000533-1689103800-1689112800@www.walronds.com
SUMMARY:Bel Canto & Wood Farm Quintet
DESCRIPTION:We are delighted to be able to welcome back Bel Canto and the Wood Farm Quintet as part of our Summer Festival. \nThe concert will take place at 7.30 on Tuesday 11th July 2023 in a marquee in the garden of The Walronds. \n  \n \n \n  \nFrom the Classical to the Modern\, the evening will be filled with music for all tastes. \nBooking can me made online at www.wegottickets.com and search for Cullompton events. \n  \nA licensed bar will be available. \n 
URL:https://www.walronds.com/event/bel-canto-wood-farm-quintet/
LOCATION:The Garden
CATEGORIES:The Garden
ATTACH;FMTTYPE=image/jpeg:https://www.walronds.com/wp-content/uploads/2023/03/Bel-Canto-on-Tour-scaled.jpg
ORGANIZER;CN="Graham Sessions":MAILTO:nextgenerationcompany2016@gmail.com
END:VEVENT
BEGIN:VEVENT
DTSTART;TZID=Europe/London:20230704T200000
DTEND;TZID=Europe/London:20230704T220000
DTSTAMP:20260420T124808
CREATED:20230410T121117Z
LAST-MODIFIED:20230525T082425Z
UID:10000538-1688500800-1688508000@www.walronds.com
SUMMARY:Wyndham Singers and Blackdown Acapella in Concert
DESCRIPTION:Wymondham singers and Blackdown Acapella will entertain with a great evening of choral music with a variety of genres. \nA licensed bar will be available. \nTickets will be available from www.wegottickets.com and search for Cullompton.
URL:https://www.walronds.com/event/wyndham-singers-in-concert/
LOCATION:The Garden
CATEGORIES:The Garden
ATTACH;FMTTYPE=image/jpeg:https://www.walronds.com/wp-content/uploads/2023/04/Natalie_16504777851351.jpg
END:VEVENT
BEGIN:VEVENT
DTSTART;TZID=Europe/London:20230622T190000
DTEND;TZID=Europe/London:20230622T190000
DTSTAMP:20260420T124808
CREATED:20230311T152841Z
LAST-MODIFIED:20230525T084357Z
UID:10000537-1687460400-1687460400@www.walronds.com
SUMMARY:Romeo & Juliet performed by Sun & Moon Theatre
DESCRIPTION:  \nFollowing last year’s outstanding reception given ton & Moon Theatre after their performance of Much Ado about Nothing we are delighted to be able to invite them to perform this year’s production of Romeo & Juliet. \nThis will be performed\, rain or shine\, in the garden of The Walronds on Thursday 22nd June at 7.30 pm. \n  \nTickets are available from www.wegottickets.com and search for Cullompton. \nA licensed bar will be available. \n  \nSun & Moon Theatre are delighted to be returning to The Walronds after their successful ‘Much Ado About Nothing’ with a vibrant\, emotional\, and bold open-air production of Shakespeare’s most popular drama of star-crossed lovers and warring families. The feud between the Montagues and Capulets has been reimagined as a rivalry between two family-run movie studios in the 1930s. \nTouted as the studio’s latest ‘Golden Couple’\, Juliet\, the current ‘Girl Next Door’ has been matched up with matinee idol\, Paris. Former child star\, Romeo\, is initially besotted by studio ‘It Girl’ Rosaline\, until he falls for Juliet at the Capulets’ premiere after-party. Their lives controlled by this turbulent industry and period\, Juliet and Romeo find joy\, solace and excitement in their hasty romance\, a desire for something true in an artificial world\, and most of all\, a hope for a better future. But comedy meets tragedy as fate has other ideas for them; behind the glitz and glamour of the film industry lies dark secrets and insecurities\, and when their defiant union faces great opposition\, it leads to violence\, chaos\, and despair. \nSuitable for all ages\, join us on a summer’s night for the world’s most famous love story\, featuring live music\, fights\, humour\, and tears\, as we explore the love and conflict between friends\, families\, and couples\, that still rings true today. \n  \n  \n \n 
URL:https://www.walronds.com/event/romeo-juliet-performed-by-sun-moon-theatre/
LOCATION:The Garden
CATEGORIES:The Garden
ATTACH;FMTTYPE=image/jpeg:https://www.walronds.com/wp-content/uploads/2023/03/IMG_0765_web.jpg
ORGANIZER;CN="Graham Sessions":MAILTO:nextgenerationcompany2016@gmail.com
END:VEVENT
BEGIN:VEVENT
DTSTART;TZID=Europe/London:20230610T100000
DTEND;TZID=Europe/London:20230610T160000
DTSTAMP:20260420T124808
CREATED:20230515T134005Z
LAST-MODIFIED:20230515T134005Z
UID:10000688-1686391200-1686412800@www.walronds.com
SUMMARY:Roman Day and Festival
DESCRIPTION:  \n  \nCome along and join our Roman Day. There will be plenty to do: children’s activities. try Roman food (not 2000 years old)\, demonstrations\, talks etc. A great day in prospect. \n  \nFREE ENTRY \n 
URL:https://www.walronds.com/event/roman-day-and-festival/
LOCATION:The Garden
CATEGORIES:The Garden
ATTACH;FMTTYPE=image/jpeg:https://www.walronds.com/wp-content/uploads/2023/05/IMG_0108.jpg
END:VEVENT
BEGIN:VEVENT
DTSTART;TZID=Europe/London:20221112T093000
DTEND;TZID=Europe/London:20221112T130000
DTSTAMP:20260420T124808
CREATED:20220214T125337Z
LAST-MODIFIED:20220606T092702Z
UID:10000457-1668245400-1668258000@www.walronds.com
SUMMARY:Craft Market and Cafe Walronds
DESCRIPTION:  \n  \nCraft Market\, Cafe Walronds \nThe Walronds will be hosting its regular Craft Fayre in the House and the Garden \nThe cafe will be selling the usual range of delicious cakes and drinks \nIf you would like to have a stall at the next Craft Fayre\, please click here for more information.
URL:https://www.walronds.com/event/craft-fayre-and-cafe-walronds-3/2022-11-12/
LOCATION:The Garden
CATEGORIES:The Garden
END:VEVENT
BEGIN:VEVENT
DTSTART;TZID=Europe/London:20220910T093000
DTEND;TZID=Europe/London:20220910T130000
DTSTAMP:20260420T124808
CREATED:20220214T125337Z
LAST-MODIFIED:20220606T092702Z
UID:10000456-1662802200-1662814800@www.walronds.com
SUMMARY:Craft Market and Cafe Walronds
DESCRIPTION:  \n  \nCraft Market\, Cafe Walronds \nThe Walronds will be hosting its regular Craft Fayre in the House and the Garden \nThe cafe will be selling the usual range of delicious cakes and drinks \nIf you would like to have a stall at the next Craft Fayre\, please click here for more information.
URL:https://www.walronds.com/event/craft-fayre-and-cafe-walronds-3/2022-09-10/
LOCATION:The Garden
CATEGORIES:The Garden
END:VEVENT
BEGIN:VEVENT
DTSTART;TZID=Europe/London:20220813T093000
DTEND;TZID=Europe/London:20220813T130000
DTSTAMP:20260420T124808
CREATED:20220214T125337Z
LAST-MODIFIED:20220606T092702Z
UID:10000455-1660383000-1660395600@www.walronds.com
SUMMARY:Craft Market and Cafe Walronds
DESCRIPTION:  \n  \nCraft Market\, Cafe Walronds \nThe Walronds will be hosting its regular Craft Fayre in the House and the Garden \nThe cafe will be selling the usual range of delicious cakes and drinks \nIf you would like to have a stall at the next Craft Fayre\, please click here for more information.
URL:https://www.walronds.com/event/craft-fayre-and-cafe-walronds-3/2022-08-13/
LOCATION:The Garden
CATEGORIES:The Garden
END:VEVENT
BEGIN:VEVENT
DTSTART;TZID=Europe/London:20220730T110000
DTEND;TZID=Europe/London:20220730T123000
DTSTAMP:20260420T124808
CREATED:20220311T102009Z
LAST-MODIFIED:20220311T110745Z
UID:10000640-1659178800-1659184200@www.walronds.com
SUMMARY:Voiceworx in Concert with Guests
DESCRIPTION:Do you perform songs\, either ones that you have written or covers. If so\, please feel free to come to this event where you will be welcomed to share the stage. \nFurther details to follow. \n 
URL:https://www.walronds.com/event/voiceworx-in-concert/
LOCATION:The Garden
CATEGORIES:The Garden
ATTACH;FMTTYPE=image/png:https://www.walronds.com/wp-content/uploads/2021/08/Creative-Cullompton-Web-Banner-1500x400-1.png
END:VEVENT
BEGIN:VEVENT
DTSTART;TZID=Europe/London:20220727T183000
DTEND;TZID=Europe/London:20220727T223000
DTSTAMP:20260420T124808
CREATED:20220311T111331Z
LAST-MODIFIED:20220311T111354Z
UID:10000641-1658946600-1658961000@www.walronds.com
SUMMARY:Dress Rehearsal - Private Event
DESCRIPTION:  \n  \nDress rehearsal for the one-act plays.
URL:https://www.walronds.com/event/dress-rehearsal-private-event/
LOCATION:The Garden
CATEGORIES:The Garden
ATTACH;FMTTYPE=image/jpeg:https://www.walronds.com/wp-content/uploads/2021/08/Private-Event.jpg
END:VEVENT
BEGIN:VEVENT
DTSTART;TZID=Europe/London:20220726T190000
DTEND;TZID=Europe/London:20220726T210000
DTSTAMP:20260420T124808
CREATED:20220214T132857Z
LAST-MODIFIED:20220506T092738Z
UID:10000463-1658862000-1658869200@www.walronds.com
SUMMARY:History Talk
DESCRIPTION:  \n  \nA history talk by Dr. Campbell focusing on Mr Bilbie and the bells and handbells of Cullompton. All are welcome to this event. Please pay on the door if you don’t have a ticket. \nThere will be a bar but the entry price includes one drink.
URL:https://www.walronds.com/event/history-talk/
LOCATION:The Garden
CATEGORIES:The Garden
ATTACH;FMTTYPE=image/jpeg:https://www.walronds.com/wp-content/uploads/2021/07/History.jpg
END:VEVENT
BEGIN:VEVENT
DTSTART;TZID=Europe/London:20220725T070000
DTEND;TZID=Europe/London:20220725T213000
DTSTAMP:20260420T124808
CREATED:20220505T134607Z
LAST-MODIFIED:20220515T145918Z
UID:10000473-1658732400-1658784600@www.walronds.com
SUMMARY:Alex Hart & Friends - Concert
DESCRIPTION:  \n  \nAlex Hart and friends will be performing their own brand of delightful music. \n  \nTickets are available on wegottickets.com/creativecullompton \n  \nA licensed bar will be available.
URL:https://www.walronds.com/event/alex-hart-friends-concert/
LOCATION:The Garden
CATEGORIES:The Garden
ATTACH;FMTTYPE=image/jpeg:https://www.walronds.com/wp-content/uploads/2022/05/Alex-Hart-Gig-Poster-A4.jpg
END:VEVENT
BEGIN:VEVENT
DTSTART;TZID=Europe/London:20220716T190000
DTEND;TZID=Europe/London:20220716T203000
DTSTAMP:20260420T124808
CREATED:20220411T083907Z
LAST-MODIFIED:20220515T145105Z
UID:10000469-1657998000-1658003400@www.walronds.com
SUMMARY:Activ8 Theatre - Blaze
DESCRIPTION:Activ8 Theatre Company reimagine the Great Fire of Cullompton in 1839 through songs\, dance\, drama costumes\, props and physical theatre\, in a mesmerising modern day presentation of the characters\, events\, horrors and comedy of this life-changing calamity. \nTickets are available from: https://www.wegottickets.com/event/544305 \n  \n 
URL:https://www.walronds.com/event/activ8-theatre-blaze-2/
LOCATION:The Garden
CATEGORIES:The Garden
END:VEVENT
BEGIN:VEVENT
DTSTART;TZID=Europe/London:20220716T170000
DTEND;TZID=Europe/London:20220716T183000
DTSTAMP:20260420T124808
CREATED:20220411T074904Z
LAST-MODIFIED:20220515T145023Z
UID:10000468-1657990800-1657996200@www.walronds.com
SUMMARY:Activ8 Theatre - Blaze
DESCRIPTION:Activ8 Theatre Company reimagine the Great Fire of Cullompton in 1839 through songs\, dance\, drama costumes\, props and physical theatre\, in a mesmerising modern day presentation of the characters\, events\, horrors and comedy of this life-changing calamity. \n  \nTickets are on sale now from: https://www.wegottickets.com/event/544234 \n  \n 
URL:https://www.walronds.com/event/activ8-theatre-blaze/
LOCATION:The Garden
CATEGORIES:The Garden
END:VEVENT
BEGIN:VEVENT
DTSTART;VALUE=DATE:20220716
DTEND;VALUE=DATE:20220731
DTSTAMP:20260420T124808
CREATED:20220214T130536Z
LAST-MODIFIED:20220506T092536Z
UID:10000458-1657929600-1659225599@www.walronds.com
SUMMARY:Arts Festival
DESCRIPTION:The Arts Festival\, based largely at The Walronds\, will take place for two weeks from 16th to 30th July with a variety of events including: workshops\, talks\, activities\, drama\, music\, arts and crafts. On many of these events there will be a bar or a café. Indiviual events will appear on this calendar as they are arranged. Some events will be ticketed. Details will appear on the individual posts. \n  \n 
URL:https://www.walronds.com/event/walronds-arts-festival/
LOCATION:The Garden
CATEGORIES:The Garden,The Hall,The Parlour
ATTACH;FMTTYPE=image/png:https://www.walronds.com/wp-content/uploads/2021/08/Creative-Cullompton-Web-Banner-1500x400-1.png
END:VEVENT
BEGIN:VEVENT
DTSTART;TZID=Europe/London:20220709T093000
DTEND;TZID=Europe/London:20220709T130000
DTSTAMP:20260420T124808
CREATED:20220214T125337Z
LAST-MODIFIED:20220615T121230Z
UID:10000470-1657359000-1657371600@www.walronds.com
SUMMARY:Craft Market and Cafe Walronds
DESCRIPTION:  \n  \nCraft Market\, Cafe Walronds \nThe Walronds will be hosting its regular Craft Fayre in the Garden \nThe cafe will be selling the usual range of delicious cakes and drinks \nIf you would like to have a stall at the next Craft Fayre\, please click here for more information.
URL:https://www.walronds.com/event/craft-fayre-and-cafe-walronds-3-2022-07-09/
LOCATION:The Garden
CATEGORIES:The Garden
ATTACH;FMTTYPE=image/jpeg:https://www.walronds.com/wp-content/uploads/2022/02/Walronds-Craft-Market-220212.jpg
END:VEVENT
BEGIN:VEVENT
DTSTART;TZID=Europe/London:20220611T093000
DTEND;TZID=Europe/London:20220611T130000
DTSTAMP:20260420T124808
CREATED:20220214T125337Z
LAST-MODIFIED:20220606T092702Z
UID:10000454-1654939800-1654952400@www.walronds.com
SUMMARY:Craft Market and Cafe Walronds
DESCRIPTION:  \n  \nCraft Market\, Cafe Walronds \nThe Walronds will be hosting its regular Craft Fayre in the House and the Garden \nThe cafe will be selling the usual range of delicious cakes and drinks \nIf you would like to have a stall at the next Craft Fayre\, please click here for more information.
URL:https://www.walronds.com/event/craft-fayre-and-cafe-walronds-3/2022-06-11/
LOCATION:The Garden
CATEGORIES:The Garden
END:VEVENT
BEGIN:VEVENT
DTSTART;TZID=Europe/London:20220514T093000
DTEND;TZID=Europe/London:20220514T130000
DTSTAMP:20260420T124808
CREATED:20220214T125337Z
LAST-MODIFIED:20220606T092702Z
UID:10000453-1652520600-1652533200@www.walronds.com
SUMMARY:Craft Market and Cafe Walronds
DESCRIPTION:  \n  \nCraft Market\, Cafe Walronds \nThe Walronds will be hosting its regular Craft Fayre in the House and the Garden \nThe cafe will be selling the usual range of delicious cakes and drinks \nIf you would like to have a stall at the next Craft Fayre\, please click here for more information.
URL:https://www.walronds.com/event/craft-fayre-and-cafe-walronds-3/2022-05-14/
LOCATION:The Garden
CATEGORIES:The Garden
END:VEVENT
BEGIN:VEVENT
DTSTART;TZID=Europe/London:20211009T083000
DTEND;TZID=Europe/London:20211009T130000
DTSTAMP:20260420T124808
CREATED:20210817T141621Z
LAST-MODIFIED:20210817T141743Z
UID:10000596-1633768200-1633784400@www.walronds.com
SUMMARY:OCTOBERFEST - An Annual Festival of Food & Crafts
DESCRIPTION:Our Annual Town Festival of Food and Crafts. The garden will be open with a cornucopia of stalls and Café Walronds will be selling a good range of cakes\, scones and beverages. \n 
URL:https://www.walronds.com/event/octoberfest-an-annual-festival-of-food-crafts/
LOCATION:The Garden
CATEGORIES:The Garden,The Hall,The Parlour
ATTACH;FMTTYPE=image/jpeg:https://www.walronds.com/wp-content/uploads/2021/08/Cullompton-Autumn-Festival-2021-A0-Landscape.jpg
END:VEVENT
BEGIN:VEVENT
DTSTART;TZID=Europe/London:20210828T083000
DTEND;TZID=Europe/London:20210828T120000
DTSTAMP:20260420T124808
CREATED:20210817T131220Z
LAST-MODIFIED:20210817T131220Z
UID:10000590-1630139400-1630152000@www.walronds.com
SUMMARY:Table Top Sale & Café
DESCRIPTION:There will be our monthly Table Top Sale in the garden. The Walronds’ Café will be open and serving beverages\, cakes etc.
URL:https://www.walronds.com/event/table-top-sale-cafe/
LOCATION:The Garden
CATEGORIES:The Garden
END:VEVENT
BEGIN:VEVENT
DTSTART;TZID=Europe/London:20210825T110000
DTEND;TZID=Europe/London:20210825T223000
DTSTAMP:20260420T124808
CREATED:20210817T130845Z
LAST-MODIFIED:20210817T135439Z
UID:10000589-1629889200-1629930600@www.walronds.com
SUMMARY:Private Event
DESCRIPTION:The Garden will be closed for this private event. \n  \n \n  \n  \n 
URL:https://www.walronds.com/event/private-event-3/
LOCATION:The Garden
CATEGORIES:The Garden
ATTACH;FMTTYPE=image/jpeg:https://www.walronds.com/wp-content/uploads/2021/08/Private-Event.jpg
END:VEVENT
BEGIN:VEVENT
DTSTART;TZID=Europe/London:20210818T173000
DTEND;TZID=Europe/London:20210818T193000
DTSTAMP:20260420T124808
CREATED:20210817T130558Z
LAST-MODIFIED:20210817T130558Z
UID:10000588-1629307800-1629315000@www.walronds.com
SUMMARY:Town Walk and Barbecue
DESCRIPTION:  \nThe Town Walk & Barbecue starts from the War Memorial at 6.30 pm on Wednesday 18th August. The walk will last about one hour to one hour and a quarter and will end in the garden at The Walronds where it will be possible to purchase a burger or hot dog for £5.00. \nA bar will also be available for participants to purchase drinks.
URL:https://www.walronds.com/event/town-walk-and-barbecue/
LOCATION:The Garden
CATEGORIES:The Garden
ATTACH;FMTTYPE=image/jpeg:https://www.walronds.com/wp-content/uploads/2021/08/Town-Walk-2021.jpg
END:VEVENT
BEGIN:VEVENT
DTSTART;TZID=Europe/London:20210731T183000
DTEND;TZID=Europe/London:20210731T213000
DTSTAMP:20260420T124808
CREATED:20210413T144555Z
LAST-MODIFIED:20210615T145200Z
UID:10000544-1627756200-1627767000@www.walronds.com
SUMMARY:An Evening of One-Act Plays
DESCRIPTION:An evening of three one-act plays (comedies) will be performed by Next Generation Theatre. Therefore we can inform the reader that the Plays will be as follows: \nCast: 1 Male by Rachel Feeny-Williams \nThe Ole in the Road (anon) \nBride Before a Fall by Robert Scott \nThe performances will take place in a marquee in the Walronds’ Garden and social distancing will be observed meaning that pre-booking is essential.\nFriday’s tickets will be available from 1st May by booking at: \nBook here for Friday’s performance \nBook here for Saturday’s performance \n  \n  \nCalendar
URL:https://www.walronds.com/event/evening-of-one-act-plays/2021-07-31/
LOCATION:The Garden
ORGANIZER;CN="Graham Sessions":MAILTO:nextgenerationcompany2016@gmail.com
END:VEVENT
BEGIN:VEVENT
DTSTART;TZID=Europe/London:20210731T130000
DTEND;TZID=Europe/London:20210731T140000
DTSTAMP:20260420T124808
CREATED:20210615T143412Z
LAST-MODIFIED:20210622T122913Z
UID:10000572-1627736400-1627740000@www.walronds.com
SUMMARY:Classic Indian Dance Workshop - Natya Jyothi Dance School
DESCRIPTION:A demonstration of Indian Dance and then followed by a workshop where you will be shown the rudiments of Indian Dance. Suitable for adults and children from about 5 years old. \nThis is a ticket only workshop and tickets (£5) must be purchased in advance from the link below. \n \nTickets available from www.wegottickets.com/event/518460 where you will find all ticketable events listed.
URL:https://www.walronds.com/event/indian-dance-workshop/
LOCATION:The Garden
CATEGORIES:The Garden
ATTACH;FMTTYPE=image/jpeg:https://www.walronds.com/wp-content/uploads/2021/06/Charline-Mazin.jpg
END:VEVENT
BEGIN:VEVENT
DTSTART;TZID=Europe/London:20210730T183000
DTEND;TZID=Europe/London:20210730T213000
DTSTAMP:20260420T124808
CREATED:20210413T144555Z
LAST-MODIFIED:20210615T145200Z
UID:10000543-1627669800-1627680600@www.walronds.com
SUMMARY:An Evening of One-Act Plays
DESCRIPTION:An evening of three one-act plays (comedies) will be performed by Next Generation Theatre. Therefore we can inform the reader that the Plays will be as follows: \nCast: 1 Male by Rachel Feeny-Williams \nThe Ole in the Road (anon) \nBride Before a Fall by Robert Scott \nThe performances will take place in a marquee in the Walronds’ Garden and social distancing will be observed meaning that pre-booking is essential.\nFriday’s tickets will be available from 1st May by booking at: \nBook here for Friday’s performance \nBook here for Saturday’s performance \n  \n  \nCalendar
URL:https://www.walronds.com/event/evening-of-one-act-plays/2021-07-30/
LOCATION:The Garden
ORGANIZER;CN="Graham Sessions":MAILTO:nextgenerationcompany2016@gmail.com
END:VEVENT
BEGIN:VEVENT
DTSTART;TZID=Europe/London:20210730T123000
DTEND;TZID=Europe/London:20210730T143000
DTSTAMP:20260420T124808
CREATED:20210712T123243Z
LAST-MODIFIED:20210712T123508Z
UID:10000587-1627648200-1627655400@www.walronds.com
SUMMARY:Isabella's Story Bicycle - Workshop Time
DESCRIPTION:  \n  \nFREE EVENT \n  \nA workshop with all the materials provided. Great for children (and adults). \n 
URL:https://www.walronds.com/event/isabellas-story-bicycle-workshop-time/
LOCATION:The Garden
CATEGORIES:The Garden
ATTACH;FMTTYPE=image/jpeg:https://www.walronds.com/wp-content/uploads/2021/07/31325-adc19c9f25f8a42a0bd804b442179889.jpg
END:VEVENT
BEGIN:VEVENT
DTSTART;TZID=Europe/London:20210730T100000
DTEND;TZID=Europe/London:20210730T110000
DTSTAMP:20260420T124808
CREATED:20210712T122958Z
LAST-MODIFIED:20210712T123600Z
UID:10000586-1627639200-1627642800@www.walronds.com
SUMMARY:Isabella's Story Bicycle - How to be Brave Storytelling Show
DESCRIPTION:FREE EVENT \nIsabella the Storyteller travels the globe on her Story Bicycle.  Sharing tales from her incredible adventures with whosoever she meets.  She has danced at the palace of the silent empress\,  learnt Kung Fu on the mountain of Kunyu and slept in a robin’s nest. \nWith delightful storytelling\,  gorgeous illustrations\, a box theatre and unexpected wonders Isabella whisks you away to another world. \nEveryone loved your storytelling\, the nanas and toddlers were leaning forwards on the edge of their straw bales to hear your every word.   \nI was so impressed with Isabella and her Story Bicycle and will book her whenever possible.   She surpassed expectations!  E. Twamley\, Skyhigh Promotions. \n 
URL:https://www.walronds.com/event/isabellas-story-bicycle-how-to-be-brave-storytelling-show/
LOCATION:The Garden
CATEGORIES:The Garden
ATTACH;FMTTYPE=image/jpeg:https://www.walronds.com/wp-content/uploads/2021/07/31325-adc19c9f25f8a42a0bd804b442179889.jpg
END:VEVENT
BEGIN:VEVENT
DTSTART;TZID=Europe/London:20210728T183000
DTEND;TZID=Europe/London:20210728T210000
DTSTAMP:20260420T124808
CREATED:20210426T102008Z
LAST-MODIFIED:20210428T112500Z
UID:10000559-1627497000-1627506000@www.walronds.com
SUMMARY:Music Evening with Marram Grass
DESCRIPTION:An evening of music with a good variety from folk and popular to maybe a little bit of classical provided by Marram Grass and Martin Baxter. An evening suitable for everyone\, young and old. Marram Grass perform their own repertoire and in addition some music of a more classical nature will be provided by Martin Baxter. The performance will take place in a marquee in the garden and social distancing will be in place and so tickets must be pre-booked online from May 1st at: \nBook your tickets here \n \n 
URL:https://www.walronds.com/event/music-evening-with-maram-grass/
LOCATION:The Garden
ATTACH;FMTTYPE=image/jpeg:https://www.walronds.com/wp-content/uploads/2021/04/Marram-Grass-Poster.jpg
END:VEVENT
BEGIN:VEVENT
DTSTART;TZID=Europe/London:20210727T180000
DTEND;TZID=Europe/London:20210727T200000
DTSTAMP:20260420T124808
CREATED:20210707T110710Z
LAST-MODIFIED:20210712T121516Z
UID:10000585-1627408800-1627416000@www.walronds.com
SUMMARY:Walronds History Group Meeting
DESCRIPTION:There is a meeting of Cullompton Walronds History Group in the garden of The Walronds on Tuesday 27th July. The meeting will open at 7.00pm with the talk given by Dr Stuart Blaylock starting at 7.15 pm. The topic will be based on the research carried out by Dr Blaylock in to the history of The Manor Hotel during the recent renovation of that building. Entrance will be £5.00 to include a glass of wine or non alcoholic drink. All are welcome. \n  \n  \n \n  \n 
URL:https://www.walronds.com/event/walronds-history-group-meeting/
LOCATION:The Garden
CATEGORIES:The Garden
ATTACH;FMTTYPE=image/jpeg:https://www.walronds.com/wp-content/uploads/2021/07/History.jpg
END:VEVENT
BEGIN:VEVENT
DTSTART;TZID=Europe/London:20210526T090000
DTEND;TZID=Europe/London:20210526T120000
DTSTAMP:20260420T124808
CREATED:20210505T185008Z
LAST-MODIFIED:20210505T190805Z
UID:10000562-1622019600-1622030400@www.walronds.com
SUMMARY:Community Engagement
DESCRIPTION:Can you help to make a difference in Cullompton?  Come and meet some of the organisers of groups and activities in the town. Have you got some new ideas? Come and share them. \nTea\, coffee and cake available! \n 
URL:https://www.walronds.com/event/community-engagement/
LOCATION:The Garden
ATTACH;FMTTYPE=image/jpeg:https://www.walronds.com/wp-content/uploads/2021/05/Cullompton-Enagagement-Event-May2021-FINAL.jpg
END:VEVENT
END:VCALENDAR